BEGIN:VCALENDAR
PRODID:-//PUBBLE//agenda//NL
VERSION:2.0
METHOD:PUBLISH
BEGIN:VEVENT
DTSTART:20260207T122156Z
DTEND:20260615T140000Z
DTSTAMP:20260422T090602Z
UID:9826f67a-46a7-4149-b067-fc9226d480e9
CREATED:20260422T090602Z
NAME:Brei- en haakcafé hetkontakt.nl
X-WR-CALNAME:Brei- en haakcafé
X-ALT-DESC;FMTTYPE=text/html:<a href='/krimpenerwaard/agenda/2026/6/15/brei-en-haakcafe-453359'>/krimpenerwaard/agenda/2026/6/15/brei-en-haakcafe-453359</a> || <p>Iedereen die van breien of haken houdt, is welkom. De bedoeling is dat er onder het genot van een kopje koffie of thee, ideeën en patronen uitgewisseld worden. Deelnemers hoeven geen lid te zijn van de bibliotheek.</p>
DESCRIPTION:<a href='/krimpenerwaard/agenda/2026/6/15/brei-en-haakcafe-453359'>/krimpenerwaard/agenda/2026/6/15/brei-en-haakcafe-453359</a> || <p>Iedereen die van breien of haken houdt, is welkom. De bedoeling is dat er onder het genot van een kopje koffie of thee, ideeën en patronen uitgewisseld worden. Deelnemers hoeven geen lid te zijn van de bibliotheek.</p>
LAST-MODIFIED:20260422T090602Z
LOCATION: Bibliotheek | Pleinstraat 4 Bergambacht
SEQUENCE:0
STATUS:CONFIRMED
SUMMARY:Brei- en haakcafé
TRANSP:OPAQUE
END:VEVENT
END:VCALENDAR
