BEGIN:VCALENDAR
PRODID:-//PUBBLE//agenda//NL
VERSION:2.0
METHOD:PUBLISH
BEGIN:VEVENT
DTSTART:20260207T122132Z
DTEND:20260518T140000Z
DTSTAMP:20260422T090718Z
UID:1f11424a-3be8-4ae0-8eae-6963246ef737
CREATED:20260422T090718Z
NAME:Brei- en haakcafé hetkontakt.nl
X-WR-CALNAME:Brei- en haakcafé
X-ALT-DESC;FMTTYPE=text/html:<a href='/krimpenerwaard/agenda/2026/5/18/brei-en-haakcafe-453358'>/krimpenerwaard/agenda/2026/5/18/brei-en-haakcafe-453358</a> || <p>Iedereen die van breien of haken houdt, is welkom. De bedoeling is dat er onder het genot van een kopje koffie of thee, ideeën en patronen uitgewisseld worden. Deelnemers hoeven geen lid te zijn van de bibliotheek.</p>
DESCRIPTION:<a href='/krimpenerwaard/agenda/2026/5/18/brei-en-haakcafe-453358'>/krimpenerwaard/agenda/2026/5/18/brei-en-haakcafe-453358</a> || <p>Iedereen die van breien of haken houdt, is welkom. De bedoeling is dat er onder het genot van een kopje koffie of thee, ideeën en patronen uitgewisseld worden. Deelnemers hoeven geen lid te zijn van de bibliotheek.</p>
LAST-MODIFIED:20260422T090718Z
LOCATION: Bibliotheek | Pleinstraat 4 Bergambacht
SEQUENCE:0
STATUS:CONFIRMED
SUMMARY:Brei- en haakcafé
TRANSP:OPAQUE
END:VEVENT
END:VCALENDAR
