BEGIN:VCALENDAR
PRODID:-//PUBBLE//agenda//NL
VERSION:2.0
METHOD:PUBLISH
BEGIN:VEVENT
DTSTART:20260207T122047Z
DTEND:20260420T140000Z
DTSTAMP:20260422T162948Z
UID:9dd9fe7c-d4cf-4151-ada8-6946fe9c0d31
CREATED:20260422T162948Z
NAME:Brei- en haakcafé hetkontakt.nl
X-WR-CALNAME:Brei- en haakcafé
X-ALT-DESC;FMTTYPE=text/html:<a href='/krimpenerwaard/agenda/2026/4/20/brei-en-haakcafe-453357'>/krimpenerwaard/agenda/2026/4/20/brei-en-haakcafe-453357</a> || <p>Iedereen die van breien of haken houdt, is welkom. De bedoeling is dat er onder het genot van een kopje koffie of thee, ideeën en patronen uitgewisseld worden. Deelnemers hoeven geen lid te zijn van de bibliotheek.</p>
DESCRIPTION:<a href='/krimpenerwaard/agenda/2026/4/20/brei-en-haakcafe-453357'>/krimpenerwaard/agenda/2026/4/20/brei-en-haakcafe-453357</a> || <p>Iedereen die van breien of haken houdt, is welkom. De bedoeling is dat er onder het genot van een kopje koffie of thee, ideeën en patronen uitgewisseld worden. Deelnemers hoeven geen lid te zijn van de bibliotheek.</p>
LAST-MODIFIED:20260422T162948Z
LOCATION: Bibliotheek | Pleinstraat 4 Bergambacht
SEQUENCE:0
STATUS:CONFIRMED
SUMMARY:Brei- en haakcafé
TRANSP:OPAQUE
END:VEVENT
END:VCALENDAR
