BEGIN:VCALENDAR
PRODID:-//PUBBLE//agenda//NL
VERSION:2.0
METHOD:PUBLISH
BEGIN:VEVENT
DTSTART:20260207T114855Z
DTEND:20260612T100000Z
DTSTAMP:20260422T065258Z
UID:81fb1af7-7be5-46ca-9331-5036016365d9
CREATED:20260422T065258Z
NAME:Rouwcafé hetkontakt.nl
X-WR-CALNAME:Rouwcafé
X-ALT-DESC;FMTTYPE=text/html:<a href='/krimpenerwaard/agenda/2026/6/12/rouwcafe-453349'>/krimpenerwaard/agenda/2026/6/12/rouwcafe-453349</a> || <p>Het Rouwcafé in Krimpen aan den IJssel is een plek waar mensen hun verlies kunnen delen en steun vinden bij lotgenoten. De bijeenkomsten zijn gratis en professioneel begeleid. Er is ook een mogelijkheid tot individuele rouwbegeleiding. Wie wil praten over het verlies van een dierbare, scheiding, ziekte of ander verlies, is welkom. Voor steun, lotgenotencontact of gewoon een kopje koffie of thee. Contact: <a href="mailto:rouwcafekrimpen@gmail.com" data-pasted="true">rouwcafekrimpen@gmail.com</a> of 06-20653547.</p>
DESCRIPTION:<a href='/krimpenerwaard/agenda/2026/6/12/rouwcafe-453349'>/krimpenerwaard/agenda/2026/6/12/rouwcafe-453349</a> || <p>Het Rouwcafé in Krimpen aan den IJssel is een plek waar mensen hun verlies kunnen delen en steun vinden bij lotgenoten. De bijeenkomsten zijn gratis en professioneel begeleid. Er is ook een mogelijkheid tot individuele rouwbegeleiding. Wie wil praten over het verlies van een dierbare, scheiding, ziekte of ander verlies, is welkom. Voor steun, lotgenotencontact of gewoon een kopje koffie of thee. Contact: <a href="mailto:rouwcafekrimpen@gmail.com" data-pasted="true">rouwcafekrimpen@gmail.com</a> of 06-20653547.</p>
LAST-MODIFIED:20260422T065258Z
LOCATION: Buurtkamer De Kajuit | Binnenvaart 3 Krimpen a/d IJssel
SEQUENCE:0
STATUS:CONFIRMED
SUMMARY:Rouwcafé
TRANSP:OPAQUE
END:VEVENT
END:VCALENDAR
