BEGIN:VCALENDAR
PRODID:-//PUBBLE//agenda//NL
VERSION:2.0
METHOD:PUBLISH
BEGIN:VEVENT
DTSTART:20260206T120000Z
DTEND:20260206T130000Z
DTSTAMP:20260422T075255Z
UID:243e596e-a2e5-4bcd-b5c2-684736aa4efa
CREATED:20260422T075255Z
NAME:Digitaal café hetkontakt.nl
X-WR-CALNAME:Digitaal café
X-ALT-DESC;FMTTYPE=text/html:<a href='/krimpenerwaard/agenda/2026/2/6/digitaal-caf-eacute--453270'>/krimpenerwaard/agenda/2026/2/6/digitaal-caf-eacute--453270</a> || <p>Digitaal café voor vragen over bijvoorbeeld telefoon, tablet of computer. Bibliotheekvrijwilligers staan klaar om te helpen. Er zijn geen kosten aan verbonden en bezoekers hoeven geen lid van de bibliotheek te zijn.</p>
DESCRIPTION:<a href='/krimpenerwaard/agenda/2026/2/6/digitaal-caf-eacute--453270'>/krimpenerwaard/agenda/2026/2/6/digitaal-caf-eacute--453270</a> || <p>Digitaal café voor vragen over bijvoorbeeld telefoon, tablet of computer. Bibliotheekvrijwilligers staan klaar om te helpen. Er zijn geen kosten aan verbonden en bezoekers hoeven geen lid van de bibliotheek te zijn.</p>
LAST-MODIFIED:20260422T075255Z
LOCATION: Bibliotheek | De Markt 201 Krimpen a/d Lek
SEQUENCE:0
STATUS:CONFIRMED
SUMMARY:Digitaal café
TRANSP:OPAQUE
END:VEVENT
END:VCALENDAR
