BEGIN:VCALENDAR
PRODID:-//PUBBLE//agenda//NL
VERSION:2.0
METHOD:PUBLISH
BEGIN:VEVENT
DTSTART:20260206T120000Z
DTEND:20260206T130000Z
DTSTAMP:20260422T090613Z
UID:431a442f-9afb-41cf-958f-0786731f4051
CREATED:20260422T090613Z
NAME:Brei- en haakcafé hetkontakt.nl
X-WR-CALNAME:Brei- en haakcafé
X-ALT-DESC;FMTTYPE=text/html:<a href='/krimpenerwaard/agenda/2026/2/6/brei-en-haakcaf-eacute--453269'>/krimpenerwaard/agenda/2026/2/6/brei-en-haakcaf-eacute--453269</a> || <p>Iedereen die van breien of haken houdt, is welkom. De bedoeling is dat er onder het genot van een kopje koffie of thee, ideeën en patronen uitgewisseld worden. Deelnemers hoeven geen lid te zijn van de bibliotheek.</p>
DESCRIPTION:<a href='/krimpenerwaard/agenda/2026/2/6/brei-en-haakcaf-eacute--453269'>/krimpenerwaard/agenda/2026/2/6/brei-en-haakcaf-eacute--453269</a> || <p>Iedereen die van breien of haken houdt, is welkom. De bedoeling is dat er onder het genot van een kopje koffie of thee, ideeën en patronen uitgewisseld worden. Deelnemers hoeven geen lid te zijn van de bibliotheek.</p>
LAST-MODIFIED:20260422T090613Z
LOCATION: Bibliotheek | De Markt 201 Krimpen a/d Lek
SEQUENCE:0
STATUS:CONFIRMED
SUMMARY:Brei- en haakcafé
TRANSP:OPAQUE
END:VEVENT
END:VCALENDAR
