BEGIN:VCALENDAR
PRODID:-//PUBBLE//agenda//NL
VERSION:2.0
METHOD:PUBLISH
BEGIN:VEVENT
DTSTART:20260206T080000Z
DTEND:20260206T090000Z
DTSTAMP:20260422T075413Z
UID:6a0861b0-1c37-4dca-953c-048bccc6685a
CREATED:20260422T075413Z
NAME:Digitaal Café hetkontakt.nl
X-WR-CALNAME:Digitaal Café
X-ALT-DESC;FMTTYPE=text/html:<a href='/krimpenerwaard/agenda/2026/2/6/digitaal-caf-eacute--453268'>/krimpenerwaard/agenda/2026/2/6/digitaal-caf-eacute--453268</a> || <p>Digitaal Café voor vragen over bijvoorbeeld telefoon, tablet of computer. Bibliotheekvrijwilligers staan klaar om te helpen. Er zijn geen kosten aan verbonden en bezoekers hoeven geen lid van de bibliotheek te zijn.</p>
DESCRIPTION:<a href='/krimpenerwaard/agenda/2026/2/6/digitaal-caf-eacute--453268'>/krimpenerwaard/agenda/2026/2/6/digitaal-caf-eacute--453268</a> || <p>Digitaal Café voor vragen over bijvoorbeeld telefoon, tablet of computer. Bibliotheekvrijwilligers staan klaar om te helpen. Er zijn geen kosten aan verbonden en bezoekers hoeven geen lid van de bibliotheek te zijn.</p>
LAST-MODIFIED:20260422T075413Z
LOCATION: Bibliotheek | Talmastraat 1 Lekkerkerk
SEQUENCE:0
STATUS:CONFIRMED
SUMMARY:Digitaal Café
TRANSP:OPAQUE
END:VEVENT
END:VCALENDAR
