BEGIN:VCALENDAR
PRODID:-//PUBBLE//agenda//NL
VERSION:2.0
METHOD:PUBLISH
BEGIN:VEVENT
DTSTART:20260206T080000Z
DTEND:20260206T090000Z
DTSTAMP:20260422T090602Z
UID:a27b9c46-98c6-449f-8e71-622c4e7573a7
CREATED:20260422T090602Z
NAME:Brei- en haakcafé hetkontakt.nl
X-WR-CALNAME:Brei- en haakcafé
X-ALT-DESC;FMTTYPE=text/html:<a href='/krimpenerwaard/agenda/2026/2/6/brei-en-haakcaf-eacute--453262'>/krimpenerwaard/agenda/2026/2/6/brei-en-haakcaf-eacute--453262</a> || <p>Iedereen die van breien of haken houdt, is welkom. De bedoeling is dat er onder het genot van een kopje koffie of thee, ideeën en patronen uitgewisseld worden. Deelnemers hoeven geen lid te zijn van de bibliotheek.</p>
DESCRIPTION:<a href='/krimpenerwaard/agenda/2026/2/6/brei-en-haakcaf-eacute--453262'>/krimpenerwaard/agenda/2026/2/6/brei-en-haakcaf-eacute--453262</a> || <p>Iedereen die van breien of haken houdt, is welkom. De bedoeling is dat er onder het genot van een kopje koffie of thee, ideeën en patronen uitgewisseld worden. Deelnemers hoeven geen lid te zijn van de bibliotheek.</p>
LAST-MODIFIED:20260422T090602Z
LOCATION: Bibliotheek | Talmastraat 1 Lekkerkerk
SEQUENCE:0
STATUS:CONFIRMED
SUMMARY:Brei- en haakcafé
TRANSP:OPAQUE
END:VEVENT
END:VCALENDAR
