BEGIN:VCALENDAR
PRODID:-//PUBBLE//agenda//NL
VERSION:2.0
METHOD:PUBLISH
BEGIN:VEVENT
DTSTART:20260429T073000Z
DTEND:20260429T093000Z
DTSTAMP:20260422T062427Z
UID:f55f442a-2ff7-4e15-9c52-05a260f01fa4
CREATED:20260422T062427Z
NAME:Workshop| Bewegen en gezonde lifestyle hetkontakt.nl
X-WR-CALNAME:Workshop| Bewegen en gezonde lifestyle
X-ALT-DESC;FMTTYPE=text/html:<a href='/krimpenerwaard/agenda/2026/4/29/workshop-bewegen-en-gezonde-lifestyle-452713'>/krimpenerwaard/agenda/2026/4/29/workshop-bewegen-en-gezonde-lifestyle-452713</a> || <p>De vrouwen ontmoetingsgroep van Krimpenerwaard Intercultureel organiseert een workshop over bewegen en een gezonde levensstijl. Aan de hand van voedingsmiddelen wordt gesproken over gezonde leefgewoonten en voeding. Ook is er aandacht voor bewegen, waarbij diverse oefeningen gezamenlijk worden uitgevoerd. Deelname of meer informatie via: info@kicnetwerk.nl.</p>
DESCRIPTION:<a href='/krimpenerwaard/agenda/2026/4/29/workshop-bewegen-en-gezonde-lifestyle-452713'>/krimpenerwaard/agenda/2026/4/29/workshop-bewegen-en-gezonde-lifestyle-452713</a> || <p>De vrouwen ontmoetingsgroep van Krimpenerwaard Intercultureel organiseert een workshop over bewegen en een gezonde levensstijl. Aan de hand van voedingsmiddelen wordt gesproken over gezonde leefgewoonten en voeding. Ook is er aandacht voor bewegen, waarbij diverse oefeningen gezamenlijk worden uitgevoerd. Deelname of meer informatie via: info@kicnetwerk.nl.</p>
LAST-MODIFIED:20260422T062427Z
LOCATION: Ichthuskerk | Kerkweg 34 Lekkerkerk
SEQUENCE:0
STATUS:CONFIRMED
SUMMARY:Workshop| Bewegen en gezonde lifestyle
TRANSP:OPAQUE
END:VEVENT
END:VCALENDAR
