BEGIN:VCALENDAR
PRODID:-//PUBBLE//agenda//NL
VERSION:2.0
METHOD:PUBLISH
BEGIN:VEVENT
DTSTART:20260127T071827Z
DTEND:20260127T081827Z
DTSTAMP:20260422T031006Z
UID:b3356acd-4419-4bd3-a4ce-5d783fbdd574
CREATED:20260422T031006Z
NAME:Gratis lezing ‘Rust in je hoofd’ hetkontakt.nl
X-WR-CALNAME:Gratis lezing ‘Rust in je hoofd’
X-ALT-DESC;FMTTYPE=text/html:<a href='/vijfheerenlanden/agenda/2026/2/6/gratis-lezing-rust-in-je-hoofd-451945'>/vijfheerenlanden/agenda/2026/2/6/gratis-lezing-rust-in-je-hoofd-451945</a> || <p>De gratis lezing ‘Rust in je hoofd: van survivalstand naar balans’ wordt gegeven door Brain Balance coach Maxime Meijer. Op een begrijpelijke manier legt zij uit hoe het brein omgaat met stress. Aanmelden via <strong>info@maximemeijer.nl</strong>. Meer informatie: www.mijnverwondering.nl.</p>
DESCRIPTION:<a href='/vijfheerenlanden/agenda/2026/2/6/gratis-lezing-rust-in-je-hoofd-451945'>/vijfheerenlanden/agenda/2026/2/6/gratis-lezing-rust-in-je-hoofd-451945</a> || <p>De gratis lezing ‘Rust in je hoofd: van survivalstand naar balans’ wordt gegeven door Brain Balance coach Maxime Meijer. Op een begrijpelijke manier legt zij uit hoe het brein omgaat met stress. Aanmelden via <strong>info@maximemeijer.nl</strong>. Meer informatie: www.mijnverwondering.nl.</p>
LAST-MODIFIED:20260422T031006Z
LOCATION: Atelier Mijn Verwondering | Fonteinstraat 22 Leerdam
SEQUENCE:0
STATUS:CONFIRMED
SUMMARY:Gratis lezing ‘Rust in je hoofd’
TRANSP:OPAQUE
END:VEVENT
END:VCALENDAR
