BEGIN:VCALENDAR
PRODID:-//PUBBLE//agenda//NL
VERSION:2.0
METHOD:PUBLISH
BEGIN:VEVENT
DTSTART:20260201T090000Z
DTEND:20260201T100000Z
DTSTAMP:20260420T041553Z
UID:fc3e0335-0585-4080-87f1-f9bd30f23f19
CREATED:20260420T041553Z
NAME:Arthur Rusanovsky & Michel Krielaars hetkontakt.nl
X-WR-CALNAME:Arthur Rusanovsky & Michel Krielaars
X-ALT-DESC;FMTTYPE=text/html:<a href='/tielenburen/agenda/2026/2/1/arthur-rusanovsky-amp-michel-krielaars-451181'>/tielenburen/agenda/2026/2/1/arthur-rusanovsky-amp-michel-krielaars-451181</a> || <p><strong>De Jonge Werther -&nbsp;</strong><strong>ingrijpende verhalen, gedichten en meeslepende vioolmuziek</strong></p><p>De Jonge Werther, een voorstelling van violist Arthur Rusanovsky en verteller Michel Krielaars over het leven van een jonge kunstenaar uit de 21ste eeuw. Een zoektocht naar binnen met alle ups en downs die daarbij komen kijken, omlijst door ingrijpende verhalen, gedichten en meeslepende vioolmuziek. De voorstelling zorgt voor een unieke concertervaring waarbij muziek, literatuur en theater samenkomen.&nbsp;</p><p>Meer info &amp; tickets: agnietenhof.nl</p><p>Deze voorstelling vindt plaats in de Zinder Zaal in Cultuurgebouw Zinder.</p>
DESCRIPTION:<a href='/tielenburen/agenda/2026/2/1/arthur-rusanovsky-amp-michel-krielaars-451181'>/tielenburen/agenda/2026/2/1/arthur-rusanovsky-amp-michel-krielaars-451181</a> || <p><strong>De Jonge Werther -&nbsp;</strong><strong>ingrijpende verhalen, gedichten en meeslepende vioolmuziek</strong></p><p>De Jonge Werther, een voorstelling van violist Arthur Rusanovsky en verteller Michel Krielaars over het leven van een jonge kunstenaar uit de 21ste eeuw. Een zoektocht naar binnen met alle ups en downs die daarbij komen kijken, omlijst door ingrijpende verhalen, gedichten en meeslepende vioolmuziek. De voorstelling zorgt voor een unieke concertervaring waarbij muziek, literatuur en theater samenkomen.&nbsp;</p><p>Meer info &amp; tickets: agnietenhof.nl</p><p>Deze voorstelling vindt plaats in de Zinder Zaal in Cultuurgebouw Zinder.</p>
LAST-MODIFIED:20260420T041553Z
LOCATION: Agnietenhof | Sint Agnietenhof 2 Tiel
SEQUENCE:0
STATUS:CONFIRMED
SUMMARY:Arthur Rusanovsky & Michel Krielaars
TRANSP:OPAQUE
END:VEVENT
END:VCALENDAR
