BEGIN:VCALENDAR
PRODID:-//PUBBLE//agenda//NL
VERSION:2.0
METHOD:PUBLISH
BEGIN:VEVENT
DTSTART:20260109T080000Z
DTEND:20260109T090000Z
DTSTAMP:20260421T080455Z
UID:95933a61-3049-4ef4-acd2-c4056764d7ec
CREATED:20260421T080455Z
NAME:Vrouwen ontmoeten hetkontakt.nl
X-WR-CALNAME:Vrouwen ontmoeten
X-ALT-DESC;FMTTYPE=text/html:<a href='/westbetuwe/agenda/2026/1/9/vrouwen-ontmoeten-450116'>/westbetuwe/agenda/2026/1/9/vrouwen-ontmoeten-450116</a> || <p><span style="color: rgba(55, 65, 81, 1); font-family: Poppins, sans-serif; font-size: 16px; font-style: normal; font-variant-ligatures: normal; font-variant-caps: normal; font-weight: 300; letter-spacing: normal; orphans: 2; text-indent: 0; text-transform: none; widows: 2; word-spacing: 0; white-space: normal; text-decoration-style: initial; text-decoration-color: initial; display: inline !important; float: none" data-pasted="true">Het Vrouwen Ontmoetingscentrum houdt iedere vrijdag van 10:00 uur tot 12:30 uur open deur in De Pluk. Alle vrouwen zijn welkom voor koffie, thee, een praatje en een luisterend oor. Ook worden er tweedehands kleding en tweedehands accessoires verkocht.&nbsp;</span></p>
DESCRIPTION:<a href='/westbetuwe/agenda/2026/1/9/vrouwen-ontmoeten-450116'>/westbetuwe/agenda/2026/1/9/vrouwen-ontmoeten-450116</a> || <p><span style="color: rgba(55, 65, 81, 1); font-family: Poppins, sans-serif; font-size: 16px; font-style: normal; font-variant-ligatures: normal; font-variant-caps: normal; font-weight: 300; letter-spacing: normal; orphans: 2; text-indent: 0; text-transform: none; widows: 2; word-spacing: 0; white-space: normal; text-decoration-style: initial; text-decoration-color: initial; display: inline !important; float: none" data-pasted="true">Het Vrouwen Ontmoetingscentrum houdt iedere vrijdag van 10:00 uur tot 12:30 uur open deur in De Pluk. Alle vrouwen zijn welkom voor koffie, thee, een praatje en een luisterend oor. Ook worden er tweedehands kleding en tweedehands accessoires verkocht.&nbsp;</span></p>
LAST-MODIFIED:20260421T080455Z
LOCATION: De Pluk | Rijksstraatweg 64 Geldermalsen
SEQUENCE:0
STATUS:CONFIRMED
SUMMARY:Vrouwen ontmoeten
TRANSP:OPAQUE
END:VEVENT
END:VCALENDAR
