BEGIN:VCALENDAR
PRODID:-//PUBBLE//agenda//NL
VERSION:2.0
METHOD:PUBLISH
BEGIN:VEVENT
DTSTART:20260105T140914Z
DTEND:20260621T160000Z
DTSTAMP:20260422T020458Z
UID:e9b24734-329e-43f1-9d7b-7100d3ca800a
CREATED:20260422T020458Z
NAME:Bier & Blazers hetkontakt.nl
X-WR-CALNAME:Bier & Blazers
X-ALT-DESC;FMTTYPE=text/html:<a href='/alblasserwaard/agenda/2026/6/21/bier-blazers-449639'>/alblasserwaard/agenda/2026/6/21/bier-blazers-449639</a> || <p>Dubbel genieten! Mooie muziek én lekker bier.</p><p>Een nieuw concept met bekende elementen. De muziekverenigingen Wilhelmina (Dussen), Fanfare St. Caecilia (Hank), St. Bavo (Raamsdonk) en Euterpe (’s Gravenmoer) zullen afwisselend hun prachtige werken ten gehore brengen. Daarnaast zullen de acht leden van de slagwerkgroep van st. Bavo een spetterend optreden verzorgen. Op het veld zijn een hapje en een drankje verkrijgbaar. Bovendien zijn er drie bierbrouwers waar het heerlijk bierproeven is!</p><p>GRATIS TOEGANG&nbsp;</p><p>Info: https://vriendenkasteeldussen.nl/event/bierblazers/</p>
DESCRIPTION:<a href='/alblasserwaard/agenda/2026/6/21/bier-blazers-449639'>/alblasserwaard/agenda/2026/6/21/bier-blazers-449639</a> || <p>Dubbel genieten! Mooie muziek én lekker bier.</p><p>Een nieuw concept met bekende elementen. De muziekverenigingen Wilhelmina (Dussen), Fanfare St. Caecilia (Hank), St. Bavo (Raamsdonk) en Euterpe (’s Gravenmoer) zullen afwisselend hun prachtige werken ten gehore brengen. Daarnaast zullen de acht leden van de slagwerkgroep van st. Bavo een spetterend optreden verzorgen. Op het veld zijn een hapje en een drankje verkrijgbaar. Bovendien zijn er drie bierbrouwers waar het heerlijk bierproeven is!</p><p>GRATIS TOEGANG&nbsp;</p><p>Info: https://vriendenkasteeldussen.nl/event/bierblazers/</p>
LAST-MODIFIED:20260422T020458Z
LOCATION: Kasteel Dussen | Binnen 1 Dussen
SEQUENCE:0
STATUS:CONFIRMED
SUMMARY:Bier & Blazers
TRANSP:OPAQUE
END:VEVENT
END:VCALENDAR
