BEGIN:VCALENDAR
PRODID:-//PUBBLE//agenda//NL
VERSION:2.0
METHOD:PUBLISH
BEGIN:VEVENT
DTSTART:20260105T140802Z
DTEND:20260525T150000Z
DTSTAMP:20260422T002702Z
UID:053983a9-44b5-4058-b243-aa63ffdab355
CREATED:20260422T002702Z
NAME:Kastelendag: “Kasteel op Stelten” hetkontakt.nl
X-WR-CALNAME:Kastelendag: “Kasteel op Stelten”
X-ALT-DESC;FMTTYPE=text/html:<a href='/alblasserwaard/agenda/2026/5/25/kastelendag-kasteel-op-stelten--449638'>/alblasserwaard/agenda/2026/5/25/kastelendag-kasteel-op-stelten--449638</a> || <p>Houd de 2e Pinksterdag vrij, zodat je kunt komen genieten van deze leuke dag!</p><p>Een uniek jaarlijkse evenement voor jong en oud. De poorten van het kasteel en de kasteeltuin gaan open en wij nodigen je van harte uit om een kijkje te komen nemen bij het Kasteel op Stelten. Oude ambachten, demonstraties, een gezellige markt, muziek en veel straattheater. In het kasteel staat de tijd stil, maar er is zoveel te zien en te beleven, dat je tijd tekort zal komen! Dus kom op 2e Pinksterdag naar het kasteel voor een onvergetelijke dag!</p><p>Info &amp; reserveren: <a href="https://vriendenkasteeldussen.nl/event/landelijke-dag-van-het-kasteel-2026/" target="_blank">https://vriendenkasteeldussen.nl/event/landelijke-dag-van-het-kasteel-2026/</a></p>
DESCRIPTION:<a href='/alblasserwaard/agenda/2026/5/25/kastelendag-kasteel-op-stelten--449638'>/alblasserwaard/agenda/2026/5/25/kastelendag-kasteel-op-stelten--449638</a> || <p>Houd de 2e Pinksterdag vrij, zodat je kunt komen genieten van deze leuke dag!</p><p>Een uniek jaarlijkse evenement voor jong en oud. De poorten van het kasteel en de kasteeltuin gaan open en wij nodigen je van harte uit om een kijkje te komen nemen bij het Kasteel op Stelten. Oude ambachten, demonstraties, een gezellige markt, muziek en veel straattheater. In het kasteel staat de tijd stil, maar er is zoveel te zien en te beleven, dat je tijd tekort zal komen! Dus kom op 2e Pinksterdag naar het kasteel voor een onvergetelijke dag!</p><p>Info &amp; reserveren: <a href="https://vriendenkasteeldussen.nl/event/landelijke-dag-van-het-kasteel-2026/" target="_blank">https://vriendenkasteeldussen.nl/event/landelijke-dag-van-het-kasteel-2026/</a></p>
LAST-MODIFIED:20260422T002702Z
LOCATION: Kasteel Dussen | Binnen 1 Dussen
SEQUENCE:0
STATUS:CONFIRMED
SUMMARY:Kastelendag: “Kasteel op Stelten”
TRANSP:OPAQUE
END:VEVENT
END:VCALENDAR
