BEGIN:VCALENDAR
PRODID:-//PUBBLE//agenda//NL
VERSION:2.0
METHOD:PUBLISH
BEGIN:VEVENT
DTSTART:20260105T140648Z
DTEND:20260507T200000Z
DTSTAMP:20260422T002645Z
UID:8ed341d9-d320-4104-abd8-7deeabb57ba9
CREATED:20260422T002645Z
NAME:Ellen Lacht - Ad Grooten & de Grote Broers hetkontakt.nl
X-WR-CALNAME:Ellen Lacht - Ad Grooten & de Grote Broers
X-ALT-DESC;FMTTYPE=text/html:<a href='/alblasserwaard/agenda/2026/5/7/ellen-lacht-ad-grooten-de-grote-broers-449636'>/alblasserwaard/agenda/2026/5/7/ellen-lacht-ad-grooten-de-grote-broers-449636</a> || <p>In deze muzikale kleinkunstvoorstelling vertellen de broers Ad en Coen Grooten door middel van pakkende liedjes en boeiende anekdotes het bijzondere verhaal van hun moeder Ellen. Ondanks zware onderwerpen als oorlog en Japanse interneringskampen zal de toon van de voorstelling vooral luchtig zijn. Het brengt ons naar Nederlands Indië. Het brengt ons naar de Japanse interneringskampen, maar ook naar het zonnige Curaçao waar Ellen een gezin stichtte met Tom Grooten, de liefde van haar leven.&nbsp;</p><p>Info &amp; reserveren: https://vriendenkasteeldussen.nl/event/ellen-lacht/</p>
DESCRIPTION:<a href='/alblasserwaard/agenda/2026/5/7/ellen-lacht-ad-grooten-de-grote-broers-449636'>/alblasserwaard/agenda/2026/5/7/ellen-lacht-ad-grooten-de-grote-broers-449636</a> || <p>In deze muzikale kleinkunstvoorstelling vertellen de broers Ad en Coen Grooten door middel van pakkende liedjes en boeiende anekdotes het bijzondere verhaal van hun moeder Ellen. Ondanks zware onderwerpen als oorlog en Japanse interneringskampen zal de toon van de voorstelling vooral luchtig zijn. Het brengt ons naar Nederlands Indië. Het brengt ons naar de Japanse interneringskampen, maar ook naar het zonnige Curaçao waar Ellen een gezin stichtte met Tom Grooten, de liefde van haar leven.&nbsp;</p><p>Info &amp; reserveren: https://vriendenkasteeldussen.nl/event/ellen-lacht/</p>
LAST-MODIFIED:20260422T002645Z
LOCATION: Kasteel Dussen | Binnen 1 Dussen
SEQUENCE:0
STATUS:CONFIRMED
SUMMARY:Ellen Lacht - Ad Grooten & de Grote Broers
TRANSP:OPAQUE
END:VEVENT
END:VCALENDAR
