BEGIN:VCALENDAR
PRODID:-//PUBBLE//agenda//NL
VERSION:2.0
METHOD:PUBLISH
BEGIN:VEVENT
DTSTART:20251230T080000Z
DTEND:20251230T090000Z
DTSTAMP:20260422T075256Z
UID:3a763025-f690-4fbf-9cf4-d86b8e718545
CREATED:20260422T075256Z
NAME:Taalcafé hetkontakt.nl
X-WR-CALNAME:Taalcafé
X-ALT-DESC;FMTTYPE=text/html:<a href='/krimpenerwaard/agenda/2025/12/30/taalcafe-449072'>/krimpenerwaard/agenda/2025/12/30/taalcafe-449072</a> || <p>In de bibliotheek is er een Taalcafé beschikbaar voor mensen die hun Nederlandse spreekvaardigheid willen oefenen. Na het drinken van een kopje koffie of thee, nemen de deelnemers deel aan taalspelletjes en bespreken ze verschillende onderwerpen. Het is niet nodig om van tevoren aan te melden. </p>
DESCRIPTION:<a href='/krimpenerwaard/agenda/2025/12/30/taalcafe-449072'>/krimpenerwaard/agenda/2025/12/30/taalcafe-449072</a> || <p>In de bibliotheek is er een Taalcafé beschikbaar voor mensen die hun Nederlandse spreekvaardigheid willen oefenen. Na het drinken van een kopje koffie of thee, nemen de deelnemers deel aan taalspelletjes en bespreken ze verschillende onderwerpen. Het is niet nodig om van tevoren aan te melden. </p>
LAST-MODIFIED:20260422T075256Z
LOCATION: Bibliotheek | Jan Steenlaan 16B Stolwijk
SEQUENCE:0
STATUS:CONFIRMED
SUMMARY:Taalcafé
TRANSP:OPAQUE
END:VEVENT
END:VCALENDAR
