BEGIN:VCALENDAR
PRODID:-//PUBBLE//agenda//NL
VERSION:2.0
METHOD:PUBLISH
BEGIN:VEVENT
DTSTART:20251230T110000Z
DTEND:20251230T120000Z
DTSTAMP:20260422T075256Z
UID:00809af4-daf9-4d6b-81bf-d76b32538e4c
CREATED:20260422T075256Z
NAME:Spreekuur wijkagent hetkontakt.nl
X-WR-CALNAME:Spreekuur wijkagent
X-ALT-DESC;FMTTYPE=text/html:<a href='/krimpenerwaard/agenda/2025/12/30/spreekuur-wijkagent-449056'>/krimpenerwaard/agenda/2025/12/30/spreekuur-wijkagent-449056</a> || <p>Elke eerste vrijdag van de maand houdt wijkagent Christiaan van Loon samen met een buitengewoon opsporingsambtenaar (boa) van de gemeente spreekuur in de bibliotheek van Krimpen aan de Lek. Ze gaan graag in gesprek met inwoners over de veiligheid en leefbaarheid in hun straat of wijk. Aanmelden is niet nodig. &nbsp;</p>
DESCRIPTION:<a href='/krimpenerwaard/agenda/2025/12/30/spreekuur-wijkagent-449056'>/krimpenerwaard/agenda/2025/12/30/spreekuur-wijkagent-449056</a> || <p>Elke eerste vrijdag van de maand houdt wijkagent Christiaan van Loon samen met een buitengewoon opsporingsambtenaar (boa) van de gemeente spreekuur in de bibliotheek van Krimpen aan de Lek. Ze gaan graag in gesprek met inwoners over de veiligheid en leefbaarheid in hun straat of wijk. Aanmelden is niet nodig. &nbsp;</p>
LAST-MODIFIED:20260422T075256Z
LOCATION: Bibliotheek | De Markt 201 Krimpen a/d Lek
SEQUENCE:0
STATUS:CONFIRMED
SUMMARY:Spreekuur wijkagent
TRANSP:OPAQUE
END:VEVENT
END:VCALENDAR
