BEGIN:VCALENDAR
PRODID:-//PUBBLE//agenda//NL
VERSION:2.0
METHOD:PUBLISH
BEGIN:VEVENT
DTSTART:20260107T070000Z
DTEND:20260107T080000Z
DTSTAMP:20260422T040524Z
UID:ea616482-650c-4fff-b9b3-30116da6010b
CREATED:20260422T040524Z
NAME:Yin yoga-les hetkontakt.nl
X-WR-CALNAME:Yin yoga-les
X-ALT-DESC;FMTTYPE=text/html:<a href='/krimpenerwaard/agenda/2026/1/7/yin-yoga-les-448901'>/krimpenerwaard/agenda/2026/1/7/yin-yoga-les-448901</a> || <p>Yin yoga is een rustige yogavorm waarbij houdingen 3–4 minuten worden aangehouden om bindweefsel, gewrichten en pezen te versterken, spanning te verminderen en flexibiliteit in heupen, onderrug en bekken te vergroten. Het bevordert ontspanning, energiestroom en balans tussen lichaam en geest. Gratis proefles na aanmelding: 06-42894150.&nbsp;</p>
DESCRIPTION:<a href='/krimpenerwaard/agenda/2026/1/7/yin-yoga-les-448901'>/krimpenerwaard/agenda/2026/1/7/yin-yoga-les-448901</a> || <p>Yin yoga is een rustige yogavorm waarbij houdingen 3–4 minuten worden aangehouden om bindweefsel, gewrichten en pezen te versterken, spanning te verminderen en flexibiliteit in heupen, onderrug en bekken te vergroten. Het bevordert ontspanning, energiestroom en balans tussen lichaam en geest. Gratis proefles na aanmelding: 06-42894150.&nbsp;</p>
LAST-MODIFIED:20260422T040524Z
LOCATION: Smash KC | Vlisterweg 24 Schoonhoven
SEQUENCE:0
STATUS:CONFIRMED
SUMMARY:Yin yoga-les
TRANSP:OPAQUE
END:VEVENT
END:VCALENDAR
