BEGIN:VCALENDAR
PRODID:-//PUBBLE//agenda//NL
VERSION:2.0
METHOD:PUBLISH
BEGIN:VEVENT
DTSTART:20251220T073000Z
DTEND:20251220T103000Z
DTSTAMP:20260424T191357Z
UID:83de6e1f-90d7-4e57-a823-31690ded4196
CREATED:20260424T191357Z
NAME:<p>Rommelzolder in Nieuwland geopend</p> hetkontakt.nl
X-WR-CALNAME:<p>Rommelzolder in Nieuwland geopend</p>
X-ALT-DESC;FMTTYPE=text/html:<a href='/vijfheerenlanden/agenda/2025/12/20/rommelzolder-in-nieuwland-geopend-448290'>/vijfheerenlanden/agenda/2025/12/20/rommelzolder-in-nieuwland-geopend-448290</a> || <p data-pasted="true">De RommelZolder in Nieuwland is weer geopend van 9.30 tot 12.30 uur. Men is welkom om gezellig te snuffelen tussen boeken, kleding, servies, gereedschap, decoratie enzovoort. De koffie staat klaar.</p>
DESCRIPTION:<a href='/vijfheerenlanden/agenda/2025/12/20/rommelzolder-in-nieuwland-geopend-448290'>/vijfheerenlanden/agenda/2025/12/20/rommelzolder-in-nieuwland-geopend-448290</a> || <p data-pasted="true">De RommelZolder in Nieuwland is weer geopend van 9.30 tot 12.30 uur. Men is welkom om gezellig te snuffelen tussen boeken, kleding, servies, gereedschap, decoratie enzovoort. De koffie staat klaar.</p>
LAST-MODIFIED:20260424T191357Z
LOCATION: Rommelzolder | Kerkstraat 5 Nieuwland
SEQUENCE:0
STATUS:CONFIRMED
SUMMARY:<p>Rommelzolder in Nieuwland geopend</p>
TRANSP:OPAQUE
END:VEVENT
END:VCALENDAR
