BEGIN:VCALENDAR
PRODID:-//PUBBLE//agenda//NL
VERSION:2.0
METHOD:PUBLISH
BEGIN:VEVENT
DTSTART:20260425T090000Z
DTEND:20260425T103000Z
DTSTAMP:20260425T112111Z
UID:7ff6b3d0-2a33-4934-b4ff-3e677ab16ec7
CREATED:20260425T112111Z
NAME:Kinderbijbelclub ‘De Schatzoekers’ hetkontakt.nl
X-WR-CALNAME:Kinderbijbelclub ‘De Schatzoekers’
X-ALT-DESC;FMTTYPE=text/html:<a href='/tielenburen/agenda/2026/4/25/kinderbijbelclub-de-schatzoekers-446700'>/tielenburen/agenda/2026/4/25/kinderbijbelclub-de-schatzoekers-446700</a> || <p>Kom je ook naar de kinderbijbelclub? Op de club zingen we met elkaar en er wordt een verhaal verteld uit de Bijbel. Ook gaan we gezellig spelletjes doen of iets moois knutselen. En natuurlijk is er in de pauze iets te drinken met wat lekkers erbij!&nbsp;</p><p>Om de week op zaterdagmorgen is er van 11.00 tot 12.30 uur club. Alle kinderen van 4 t/m 12 jaar in Tiel en omgeving zijn van harte welkom. De club wordt gehouden in de Stadsfabriek Tiel, Medelsestraat 5, 4005 VA Tiel. De jufs kunnen ook voor het ophalen en thuisbrengen zorgen.&nbsp;</p><p>Voor meer informatie neem gerust contact met ons op via 06-25587925 of deschatzoekers@gergemtrichtgeldermalsen.nl.</p>
DESCRIPTION:<a href='/tielenburen/agenda/2026/4/25/kinderbijbelclub-de-schatzoekers-446700'>/tielenburen/agenda/2026/4/25/kinderbijbelclub-de-schatzoekers-446700</a> || <p>Kom je ook naar de kinderbijbelclub? Op de club zingen we met elkaar en er wordt een verhaal verteld uit de Bijbel. Ook gaan we gezellig spelletjes doen of iets moois knutselen. En natuurlijk is er in de pauze iets te drinken met wat lekkers erbij!&nbsp;</p><p>Om de week op zaterdagmorgen is er van 11.00 tot 12.30 uur club. Alle kinderen van 4 t/m 12 jaar in Tiel en omgeving zijn van harte welkom. De club wordt gehouden in de Stadsfabriek Tiel, Medelsestraat 5, 4005 VA Tiel. De jufs kunnen ook voor het ophalen en thuisbrengen zorgen.&nbsp;</p><p>Voor meer informatie neem gerust contact met ons op via 06-25587925 of deschatzoekers@gergemtrichtgeldermalsen.nl.</p>
LAST-MODIFIED:20260425T112111Z
LOCATION: Stadsfabriek Tiel | Medelsestraat 5 Tiel
SEQUENCE:0
STATUS:CONFIRMED
SUMMARY:Kinderbijbelclub ‘De Schatzoekers’
TRANSP:OPAQUE
END:VEVENT
END:VCALENDAR
