BEGIN:VCALENDAR
PRODID:-//PUBBLE//agenda//NL
VERSION:2.0
METHOD:PUBLISH
BEGIN:VEVENT
DTSTART:20251031T070000Z
DTEND:20251031T080000Z
DTSTAMP:20260422T075406Z
UID:87c06de3-81b5-4e61-ae27-1577654f0b0e
CREATED:20260422T075406Z
NAME:Samen in Beweging hetkontakt.nl
X-WR-CALNAME:Samen in Beweging
X-ALT-DESC;FMTTYPE=text/html:<a href='/krimpenerwaard/agenda/2025/10/31/samen-in-beweging-442284'>/krimpenerwaard/agenda/2025/10/31/samen-in-beweging-442284</a> || <p>Meer bewegen voor ouderen met Wilma de Jong in de recreatiezaal van De Boomgaard. Elke woensdagmorgen van 9.00 tot 11.45 uur en elke vrijdagmorgen van 9.00 tot 10.00 uur. Voor meer informatie: 06-18247887.</p>
DESCRIPTION:<a href='/krimpenerwaard/agenda/2025/10/31/samen-in-beweging-442284'>/krimpenerwaard/agenda/2025/10/31/samen-in-beweging-442284</a> || <p>Meer bewegen voor ouderen met Wilma de Jong in de recreatiezaal van De Boomgaard. Elke woensdagmorgen van 9.00 tot 11.45 uur en elke vrijdagmorgen van 9.00 tot 10.00 uur. Voor meer informatie: 06-18247887.</p>
LAST-MODIFIED:20260422T075406Z
LOCATION: De Boomgaard | Talmastraat 87A Lekkerkerk
SEQUENCE:0
STATUS:CONFIRMED
SUMMARY:Samen in Beweging
TRANSP:OPAQUE
END:VEVENT
END:VCALENDAR
