BEGIN:VCALENDAR
PRODID:-//PUBBLE//agenda//NL
VERSION:2.0
METHOD:PUBLISH
BEGIN:VEVENT
DTSTART:20251114T080000Z
DTEND:20251114T100000Z
DTSTAMP:20260420T071417Z
UID:6a50c5fd-9827-415b-8d2c-6709858e9c5c
CREATED:20260420T071417Z
NAME:Haak en breicafé in Lienden hetkontakt.nl
X-WR-CALNAME:Haak en breicafé in Lienden
X-ALT-DESC;FMTTYPE=text/html:<a href='/tielenburen/agenda/2025/11/14/haak-en-breicafe-in-lienden-441969'>/tielenburen/agenda/2025/11/14/haak-en-breicafe-in-lienden-441969</a> || <p>Neem een haak-, borduur- of breiwerkje mee en kom naar de bibliotheek in Lienden. Gezellig samen handwerken onder het genot van een kopje koffie of thee. Dat werkt inspirerend.<br />Aanmelden is niet nodig en het is evenmin nodig om lid te zijn van de bibliotheek.</p>
DESCRIPTION:<a href='/tielenburen/agenda/2025/11/14/haak-en-breicafe-in-lienden-441969'>/tielenburen/agenda/2025/11/14/haak-en-breicafe-in-lienden-441969</a> || <p>Neem een haak-, borduur- of breiwerkje mee en kom naar de bibliotheek in Lienden. Gezellig samen handwerken onder het genot van een kopje koffie of thee. Dat werkt inspirerend.<br />Aanmelden is niet nodig en het is evenmin nodig om lid te zijn van de bibliotheek.</p>
LAST-MODIFIED:20260420T071417Z
LOCATION: Bibliotheek Lienden | Blommeland 14 Lienden
SEQUENCE:0
STATUS:CONFIRMED
SUMMARY:Haak en breicafé in Lienden
TRANSP:OPAQUE
END:VEVENT
END:VCALENDAR
