BEGIN:VCALENDAR
PRODID:-//PUBBLE//agenda//NL
VERSION:2.0
METHOD:PUBLISH
BEGIN:VEVENT
DTSTART:20251016T180000Z
DTEND:20251016T200000Z
DTSTAMP:20260421T161418Z
UID:ff5fe899-62a9-46d8-bdf2-82b1d87a4f3b
CREATED:20260421T161418Z
NAME:Numidia in Concert hetkontakt.nl
X-WR-CALNAME:Numidia in Concert
X-ALT-DESC;FMTTYPE=text/html:<a href='/tielenburen/agenda/2025/10/16/numidia-in-concert-439547'>/tielenburen/agenda/2025/10/16/numidia-in-concert-439547</a> || <p>Numidia nodigt je uit voor een speciale avond in het theater, waar muziek en cultuur samenkomen in een intieme live setting. Haar optredens zijn een reflectie van haar Marokkaanse achtergrond, vermengd met een breed scala aan muzikale invloeden. Van diepgaande ballads tot levendige dansnummers, elk lied vertelt een verhaal en toont haar passie voor muziek. Tijdens deze avond deelt Numidia zowel haar eigen werk als haar vertolkingen van nummers uit ‘Beste Zangers’, waarmee ze haar bereik en muzikale diepte toont.</p>
DESCRIPTION:<a href='/tielenburen/agenda/2025/10/16/numidia-in-concert-439547'>/tielenburen/agenda/2025/10/16/numidia-in-concert-439547</a> || <p>Numidia nodigt je uit voor een speciale avond in het theater, waar muziek en cultuur samenkomen in een intieme live setting. Haar optredens zijn een reflectie van haar Marokkaanse achtergrond, vermengd met een breed scala aan muzikale invloeden. Van diepgaande ballads tot levendige dansnummers, elk lied vertelt een verhaal en toont haar passie voor muziek. Tijdens deze avond deelt Numidia zowel haar eigen werk als haar vertolkingen van nummers uit ‘Beste Zangers’, waarmee ze haar bereik en muzikale diepte toont.</p>
LAST-MODIFIED:20260421T161418Z
LOCATION: Agnietenhof | Sint Agnietenhof 2 Tiel
SEQUENCE:0
STATUS:CONFIRMED
SUMMARY:Numidia in Concert
TRANSP:OPAQUE
END:VEVENT
END:VCALENDAR
