BEGIN:VCALENDAR
PRODID:-//PUBBLE//agenda//NL
VERSION:2.0
METHOD:PUBLISH
BEGIN:VEVENT
DTSTART:20251001T163000Z
DTEND:20251001T173000Z
DTSTAMP:20260422T075405Z
UID:5a16ee65-59eb-4061-9b31-3855d8cbd75e
CREATED:20260422T075405Z
NAME:Schaakavond hetkontakt.nl
X-WR-CALNAME:Schaakavond
X-ALT-DESC;FMTTYPE=text/html:<a href='/krimpenerwaard/agenda/2025/10/1/schaakavond-438763'>/krimpenerwaard/agenda/2025/10/1/schaakavond-438763</a> || <p>Elke maandag organiseert SV Krimpen een schaakavond in het clublokaal. Partijen en trainingen voor beginners en gevorderden. Jeugd start om 18.30 uur, senioren om 20.00 uur. Belangstellenden zijn welkom. Meer info: <a href="http://www.svkrimpen.nl" rel="noopener" target="_blank">www.svkrimpen.nl</a>.</p>
DESCRIPTION:<a href='/krimpenerwaard/agenda/2025/10/1/schaakavond-438763'>/krimpenerwaard/agenda/2025/10/1/schaakavond-438763</a> || <p>Elke maandag organiseert SV Krimpen een schaakavond in het clublokaal. Partijen en trainingen voor beginners en gevorderden. Jeugd start om 18.30 uur, senioren om 20.00 uur. Belangstellenden zijn welkom. Meer info: <a href="http://www.svkrimpen.nl" rel="noopener" target="_blank">www.svkrimpen.nl</a>.</p>
LAST-MODIFIED:20260422T075405Z
LOCATION: Clubhuis SV Krimpen | Vicenza 5 Krimpen a/d IJssel
SEQUENCE:0
STATUS:CONFIRMED
SUMMARY:Schaakavond
TRANSP:OPAQUE
END:VEVENT
END:VCALENDAR
