BEGIN:VCALENDAR
PRODID:-//PUBBLE//agenda//NL
VERSION:2.0
METHOD:PUBLISH
BEGIN:VEVENT
DTSTART:20251011T070000Z
DTEND:20251011T080000Z
DTSTAMP:20260421T025855Z
UID:14f1b499-a8f3-439f-8ded-b3d9c91283ee
CREATED:20260421T025855Z
NAME:Rommelmarkt en herfstfair in De Schakel in Leerbroek hetkontakt.nl
X-WR-CALNAME:Rommelmarkt en herfstfair in De Schakel in Leerbroek
X-ALT-DESC;FMTTYPE=text/html:<a href='/vijfheerenlanden/agenda/2025/10/11/rommelmarkt-en-herfstfair-in-de-schakel-in-leerbroek-437446'>/vijfheerenlanden/agenda/2025/10/11/rommelmarkt-en-herfstfair-in-de-schakel-in-leerbroek-437446</a> || <p>In dorpshuis De Schakel in Leerbroek vindt opnieuw de halfjaarlijkse rommelmarkt en herfstfair plaats. Bezoekers zijn welkom vanaf 9.00 uur om te snuffelen tussen een breed aanbod van gebruikte en vrijwel nieuwe artikelen voor binnen en buiten.</p><p>Naast huisraad en tuinspullen zijn er ook speelgoed, kleding, herfstdecoraties en bloemstukken te koop. Zowel particulieren als maatschappelijke organisaties nemen deel aan de markt en bieden hun spullen of activiteiten aan. De markt eindigt om 12.30 uur.</p><p data-is-last-node="">Wie zelf wil deelnemen, kan een tafel huren voor 10 euro per stuk. De afmeting is 80 bij 160 centimeter. Aanmelden kan via <a rel="noopener">leerbroekserommelmarkt3@gmail.com</a>. De toegang tot de markt is gratis, er is ruime parkeergelegenheid en de bar is geopend voor een drankje.</p>
DESCRIPTION:<a href='/vijfheerenlanden/agenda/2025/10/11/rommelmarkt-en-herfstfair-in-de-schakel-in-leerbroek-437446'>/vijfheerenlanden/agenda/2025/10/11/rommelmarkt-en-herfstfair-in-de-schakel-in-leerbroek-437446</a> || <p>In dorpshuis De Schakel in Leerbroek vindt opnieuw de halfjaarlijkse rommelmarkt en herfstfair plaats. Bezoekers zijn welkom vanaf 9.00 uur om te snuffelen tussen een breed aanbod van gebruikte en vrijwel nieuwe artikelen voor binnen en buiten.</p><p>Naast huisraad en tuinspullen zijn er ook speelgoed, kleding, herfstdecoraties en bloemstukken te koop. Zowel particulieren als maatschappelijke organisaties nemen deel aan de markt en bieden hun spullen of activiteiten aan. De markt eindigt om 12.30 uur.</p><p data-is-last-node="">Wie zelf wil deelnemen, kan een tafel huren voor 10 euro per stuk. De afmeting is 80 bij 160 centimeter. Aanmelden kan via <a rel="noopener">leerbroekserommelmarkt3@gmail.com</a>. De toegang tot de markt is gratis, er is ruime parkeergelegenheid en de bar is geopend voor een drankje.</p>
LAST-MODIFIED:20260421T025855Z
LOCATION: Dorpshuis De Schakel | Raadhuisplein 1 Leerbroek/Middelkoop
SEQUENCE:0
STATUS:CONFIRMED
SUMMARY:Rommelmarkt en herfstfair in De Schakel in Leerbroek
TRANSP:OPAQUE
END:VEVENT
END:VCALENDAR
