BEGIN:VCALENDAR
PRODID:-//PUBBLE//agenda//NL
VERSION:2.0
METHOD:PUBLISH
BEGIN:VEVENT
DTSTART:20250919T071500Z
DTEND:20250919T081500Z
DTSTAMP:20260422T075255Z
UID:86f5fcc4-fdb5-4be5-b7a0-57a4a5add49c
CREATED:20260422T075255Z
NAME:Wandelgroep hetkontakt.nl
X-WR-CALNAME:Wandelgroep
X-ALT-DESC;FMTTYPE=text/html:<a href='/krimpenerwaard/agenda/2025/9/19/wandelgroep-437150'>/krimpenerwaard/agenda/2025/9/19/wandelgroep-437150</a> || <p>Wandelgroep in Gouderak. Iedere vrijdag, 9.15 uur, start bij Het Dorpshuis. Gezellig wandelen en bewegen in groepsverband. Deelname gratis, iedereen welkom.</p>
DESCRIPTION:<a href='/krimpenerwaard/agenda/2025/9/19/wandelgroep-437150'>/krimpenerwaard/agenda/2025/9/19/wandelgroep-437150</a> || <p>Wandelgroep in Gouderak. Iedere vrijdag, 9.15 uur, start bij Het Dorpshuis. Gezellig wandelen en bewegen in groepsverband. Deelname gratis, iedereen welkom.</p>
LAST-MODIFIED:20260422T075255Z
LOCATION: Dorpshuis | Johan Brouckplein 11 Gouderak
SEQUENCE:0
STATUS:CONFIRMED
SUMMARY:Wandelgroep
TRANSP:OPAQUE
END:VEVENT
END:VCALENDAR
