BEGIN:VCALENDAR
PRODID:-//PUBBLE//agenda//NL
VERSION:2.0
METHOD:PUBLISH
BEGIN:VEVENT
DTSTART:20250923T120000Z
DTEND:20250923T140000Z
DTSTAMP:20260422T075405Z
UID:b69e068c-fbbe-40d6-81e0-80f6751d5821
CREATED:20260422T075405Z
NAME:Linedance hetkontakt.nl
X-WR-CALNAME:Linedance
X-ALT-DESC;FMTTYPE=text/html:<a href='/krimpenerwaard/agenda/2025/9/23/linedance-436819'>/krimpenerwaard/agenda/2025/9/23/linedance-436819</a> || <p>Elke dinsdagmiddag linedance in Het Kwartier in Stolwijk. Eerste les is gratis en vrijblijvend. Iedereen is welkom, jong en oud, beginners of gevorderden.</p>
DESCRIPTION:<a href='/krimpenerwaard/agenda/2025/9/23/linedance-436819'>/krimpenerwaard/agenda/2025/9/23/linedance-436819</a> || <p>Elke dinsdagmiddag linedance in Het Kwartier in Stolwijk. Eerste les is gratis en vrijblijvend. Iedereen is welkom, jong en oud, beginners of gevorderden.</p>
LAST-MODIFIED:20260422T075405Z
LOCATION: Het Kwartier | Jan Steenlaan 16b Stolwijk
SEQUENCE:0
STATUS:CONFIRMED
SUMMARY:Linedance
TRANSP:OPAQUE
END:VEVENT
END:VCALENDAR
