BEGIN:VCALENDAR
PRODID:-//PUBBLE//agenda//NL
VERSION:2.0
METHOD:PUBLISH
BEGIN:VEVENT
DTSTART:20241223T083000Z
DTEND:20241223T093000Z
DTSTAMP:20260421T192002Z
UID:f58ac094-467e-4810-bd78-c7a33eaed148
CREATED:20260421T192002Z
NAME:Taalcafé hetkontakt.nl
X-WR-CALNAME:Taalcafé
X-ALT-DESC;FMTTYPE=text/html:<a href='/krimpenerwaard/agenda/2024/12/23/taalcafe-435522'>/krimpenerwaard/agenda/2024/12/23/taalcafe-435522</a> || <p>In de bibliotheek is er een Taalcafé beschikbaar voor mensen die hun Nederlandse spreekvaardigheid willen oefenen. Na het drinken van een kopje koffie of thee, nemen de deelnemers deel aan taalspelletjes en bespreken ze verschillende onderwerpen. Het is niet nodig om van tevoren aan te melden.</p>
DESCRIPTION:<a href='/krimpenerwaard/agenda/2024/12/23/taalcafe-435522'>/krimpenerwaard/agenda/2024/12/23/taalcafe-435522</a> || <p>In de bibliotheek is er een Taalcafé beschikbaar voor mensen die hun Nederlandse spreekvaardigheid willen oefenen. Na het drinken van een kopje koffie of thee, nemen de deelnemers deel aan taalspelletjes en bespreken ze verschillende onderwerpen. Het is niet nodig om van tevoren aan te melden.</p>
LAST-MODIFIED:20260421T192002Z
LOCATION: Bibliotheek | Bergambachterstraat 9 Schoonhoven
SEQUENCE:0
STATUS:CONFIRMED
SUMMARY:Taalcafé
TRANSP:OPAQUE
END:VEVENT
END:VCALENDAR
