BEGIN:VCALENDAR
PRODID:-//PUBBLE//agenda//NL
VERSION:2.0
METHOD:PUBLISH
BEGIN:VEVENT
DTSTART:20241223T123000Z
DTEND:20241223T133000Z
DTSTAMP:20260422T075256Z
UID:a930eb4f-fd42-4d9d-ad5f-def80ff884c2
CREATED:20260422T075256Z
NAME:Taalcafé hetkontakt.nl
X-WR-CALNAME:Taalcafé
X-ALT-DESC;FMTTYPE=text/html:<a href='/krimpenerwaard/agenda/2024/12/23/taalcafe-435521'>/krimpenerwaard/agenda/2024/12/23/taalcafe-435521</a> || <p>In de bibliotheek is er een Taalcafé beschikbaar voor mensen die hun Nederlandse spreekvaardigheid willen oefenen. Na het drinken van een kopje koffie of thee, nemen de deelnemers deel aan taalspelletjes en bespreken ze verschillende onderwerpen. Het is niet nodig om van tevoren aan te melden.</p>
DESCRIPTION:<a href='/krimpenerwaard/agenda/2024/12/23/taalcafe-435521'>/krimpenerwaard/agenda/2024/12/23/taalcafe-435521</a> || <p>In de bibliotheek is er een Taalcafé beschikbaar voor mensen die hun Nederlandse spreekvaardigheid willen oefenen. Na het drinken van een kopje koffie of thee, nemen de deelnemers deel aan taalspelletjes en bespreken ze verschillende onderwerpen. Het is niet nodig om van tevoren aan te melden.</p>
LAST-MODIFIED:20260422T075256Z
LOCATION: Bibliotheek | Bergambachterstraat 9 Schoonhoven
SEQUENCE:0
STATUS:CONFIRMED
SUMMARY:Taalcafé
TRANSP:OPAQUE
END:VEVENT
END:VCALENDAR
