BEGIN:VCALENDAR
PRODID:-//PUBBLE//agenda//NL
VERSION:2.0
METHOD:PUBLISH
BEGIN:VEVENT
DTSTART:20250904T101522Z
DTEND:20250920T150000Z
DTSTAMP:20260423T151708Z
UID:b77ad42e-52dc-481d-b8fe-0496a42eb79c
CREATED:20260423T151708Z
NAME:Jonge kunstenaars bij KunstinAltena hetkontakt.nl
X-WR-CALNAME:Jonge kunstenaars bij KunstinAltena
X-ALT-DESC;FMTTYPE=text/html:<a href='/altena/agenda/2025/9/20/jonge-kunstenaars-bij-kunstinaltena-435471'>/altena/agenda/2025/9/20/jonge-kunstenaars-bij-kunstinaltena-435471</a> || <p>Na het succes van 2022 geeft KunstinAltena jonge kunstenaars weer de mogelijkheid te exposeren. De tentoonstelling is van 13:00 uur tot 17:00 uur geopend.&nbsp;</p>
DESCRIPTION:<a href='/altena/agenda/2025/9/20/jonge-kunstenaars-bij-kunstinaltena-435471'>/altena/agenda/2025/9/20/jonge-kunstenaars-bij-kunstinaltena-435471</a> || <p>Na het succes van 2022 geeft KunstinAltena jonge kunstenaars weer de mogelijkheid te exposeren. De tentoonstelling is van 13:00 uur tot 17:00 uur geopend.&nbsp;</p>
LAST-MODIFIED:20260423T151708Z
LOCATION: Landerij Lagrouw | Uppelse Hoek 28 Almkerk
SEQUENCE:0
STATUS:CONFIRMED
SUMMARY:Jonge kunstenaars bij KunstinAltena
TRANSP:OPAQUE
END:VEVENT
END:VCALENDAR
