BEGIN:VCALENDAR
PRODID:-//PUBBLE//agenda//NL
VERSION:2.0
METHOD:PUBLISH
BEGIN:VEVENT
DTSTART:20260118T080000Z
DTEND:20260118T090000Z
DTSTAMP:20260422T075406Z
UID:ca43547e-ce49-460d-93a8-4527b2af2f98
CREATED:20260422T075406Z
NAME:Digitaal café hetkontakt.nl
X-WR-CALNAME:Digitaal café
X-ALT-DESC;FMTTYPE=text/html:<a href='/krimpenerwaard/agenda/2026/1/18/digitaal-cafe-433361'>/krimpenerwaard/agenda/2026/1/18/digitaal-cafe-433361</a> || <p>Digitaal Café voor vragen over bijvoorbeeld telefoon, tablet of computer. Bibliotheekvrijwilligers staan klaar om te helpen. Er zijn geen kosten aan verbonden en bezoekers hoeven geen lid van de bibliotheek te zijn.</p>
DESCRIPTION:<a href='/krimpenerwaard/agenda/2026/1/18/digitaal-cafe-433361'>/krimpenerwaard/agenda/2026/1/18/digitaal-cafe-433361</a> || <p>Digitaal Café voor vragen over bijvoorbeeld telefoon, tablet of computer. Bibliotheekvrijwilligers staan klaar om te helpen. Er zijn geen kosten aan verbonden en bezoekers hoeven geen lid van de bibliotheek te zijn.</p>
LAST-MODIFIED:20260422T075406Z
LOCATION: Bibliotheek | Bergambachterstraat 9 Schoonhoven
SEQUENCE:0
STATUS:CONFIRMED
SUMMARY:Digitaal café
TRANSP:OPAQUE
END:VEVENT
END:VCALENDAR
