BEGIN:VCALENDAR
PRODID:-//PUBBLE//agenda//NL
VERSION:2.0
METHOD:PUBLISH
BEGIN:VEVENT
DTSTART:20250804T111902Z
DTEND:20250914T150000Z
DTSTAMP:20260419T125344Z
UID:f9c1110a-b447-458e-9ce5-4f265f125046
CREATED:20260419T125344Z
NAME:Burense Kunstmarkt maakt mooie doorstart hetkontakt.nl
X-WR-CALNAME:Burense Kunstmarkt maakt mooie doorstart
X-ALT-DESC;FMTTYPE=text/html:<a href='/tielenburen/agenda/2025/9/14/burense-kunstmarkt-maakt-mooie-doorstart-432927'>/tielenburen/agenda/2025/9/14/burense-kunstmarkt-maakt-mooie-doorstart-432927</a> || <p>Buren - De Burense Kunstmarkt maakt een doorstart in de binnentuin van het Koninklijk Weeshuis in de Oranjestad.<br />Na het aangekondigde afscheid van de oorspronkelijke organisator dreigde een einde te komen aan de Burense Kunstmarkt. Maar dankzij de inzet van de vrijwilligers van Stichting Evenementen BurenStad krijgt dit evenement een nieuw hoofdstuk.<br />Op zondag 14 september vindt de 27e editie plaats in de sfeervolle binnentuin van het Koninklijk Weeshuis, midden in de historische binnenstad van Buren. De kunstmarkt valt dit jaar samen met de landelijke Open Monumentendag, waardoor bezoekers niet alleen kunst kunnen beleven, maar ook het rijke erfgoed van Buren kunnen ontdekken. Ook de molen ‘De Prins van Oranje’ opent op deze dag de deuren.<br />De kunstmarkt biedt een podium aan ruim vijftig kunstenaars uit de regio met werk in uiteenlopende disciplines zoals schilderkunst, glaskunst, fotografie, sieraden en beeldhouwkunst. Bestuurslid Steven Hulst: “Er zijn nog een aantal marktkramen beschikbaar. We nodigen kunstenaars dan ook van harte uit om in te schrijven via onze website”.<br />Locatie: Tuinen van het Koninklijk Weeshuis, Buren Tijd: 12:00 - 17:00 uur Toegang: Gratis<br />Meer informatie en het volledige programma zijn te vinden op <a href="http://www.burensekunstmarkt.nl" rel="noopener noreferrer" target="_blank">www.burensekunstmarkt.nl</a>.<br /><br /> </p>
DESCRIPTION:<a href='/tielenburen/agenda/2025/9/14/burense-kunstmarkt-maakt-mooie-doorstart-432927'>/tielenburen/agenda/2025/9/14/burense-kunstmarkt-maakt-mooie-doorstart-432927</a> || <p>Buren - De Burense Kunstmarkt maakt een doorstart in de binnentuin van het Koninklijk Weeshuis in de Oranjestad.<br />Na het aangekondigde afscheid van de oorspronkelijke organisator dreigde een einde te komen aan de Burense Kunstmarkt. Maar dankzij de inzet van de vrijwilligers van Stichting Evenementen BurenStad krijgt dit evenement een nieuw hoofdstuk.<br />Op zondag 14 september vindt de 27e editie plaats in de sfeervolle binnentuin van het Koninklijk Weeshuis, midden in de historische binnenstad van Buren. De kunstmarkt valt dit jaar samen met de landelijke Open Monumentendag, waardoor bezoekers niet alleen kunst kunnen beleven, maar ook het rijke erfgoed van Buren kunnen ontdekken. Ook de molen ‘De Prins van Oranje’ opent op deze dag de deuren.<br />De kunstmarkt biedt een podium aan ruim vijftig kunstenaars uit de regio met werk in uiteenlopende disciplines zoals schilderkunst, glaskunst, fotografie, sieraden en beeldhouwkunst. Bestuurslid Steven Hulst: “Er zijn nog een aantal marktkramen beschikbaar. We nodigen kunstenaars dan ook van harte uit om in te schrijven via onze website”.<br />Locatie: Tuinen van het Koninklijk Weeshuis, Buren Tijd: 12:00 - 17:00 uur Toegang: Gratis<br />Meer informatie en het volledige programma zijn te vinden op <a href="http://www.burensekunstmarkt.nl" rel="noopener noreferrer" target="_blank">www.burensekunstmarkt.nl</a>.<br /><br /> </p>
LAST-MODIFIED:20260419T125344Z
LOCATION: Koninklijk Weeshuis |   Buren
SEQUENCE:0
STATUS:CONFIRMED
SUMMARY:Burense Kunstmarkt maakt mooie doorstart
TRANSP:OPAQUE
END:VEVENT
END:VCALENDAR
