BEGIN:VCALENDAR
PRODID:-//PUBBLE//agenda//NL
VERSION:2.0
METHOD:PUBLISH
BEGIN:VEVENT
DTSTART:20250901T120000Z
DTEND:20250901T130000Z
DTSTAMP:20260422T075406Z
UID:0a47f083-c3c8-4f8b-b472-94d4c120eb85
CREATED:20260422T075406Z
NAME:Klaverjassen hetkontakt.nl
X-WR-CALNAME:Klaverjassen
X-ALT-DESC;FMTTYPE=text/html:<a href='/krimpenerwaard/agenda/2025/9/1/klaverjassen-432840'>/krimpenerwaard/agenda/2025/9/1/klaverjassen-432840</a> || <p>Elke maandagmiddag is er klaverjassen in de Boomgaard. Deelname mogelijk voor een maandelijkse bijdrage van circa 8 euro. Nieuwe spelers welkom. Vrijblijvend binnenlopen om mee te doen of de sfeer te proeven. </p>
DESCRIPTION:<a href='/krimpenerwaard/agenda/2025/9/1/klaverjassen-432840'>/krimpenerwaard/agenda/2025/9/1/klaverjassen-432840</a> || <p>Elke maandagmiddag is er klaverjassen in de Boomgaard. Deelname mogelijk voor een maandelijkse bijdrage van circa 8 euro. Nieuwe spelers welkom. Vrijblijvend binnenlopen om mee te doen of de sfeer te proeven. </p>
LAST-MODIFIED:20260422T075406Z
LOCATION: De Boomgaard | Talmastraat 87A Lekkerkerk
SEQUENCE:0
STATUS:CONFIRMED
SUMMARY:Klaverjassen
TRANSP:OPAQUE
END:VEVENT
END:VCALENDAR
