BEGIN:VCALENDAR
PRODID:-//PUBBLE//agenda//NL
VERSION:2.0
METHOD:PUBLISH
BEGIN:VEVENT
DTSTART:20250801T160000Z
DTEND:20250801T170000Z
DTSTAMP:20260420T034423Z
UID:c38c65a9-09e2-4cd7-8384-9018d4184acc
CREATED:20260420T034423Z
NAME:Nieuw agendabericht hetkontakt.nl
X-WR-CALNAME:Nieuw agendabericht
X-ALT-DESC;FMTTYPE=text/html:<a href='/alblasserwaard/agenda/2025/8/1/nieuw-agendabericht-432380'>/alblasserwaard/agenda/2025/8/1/nieuw-agendabericht-432380</a> || <p>Nederlands kampioenschap kuiltjeknikkeren. Jeugdknikkeren (4 t/m 13 jaar) start om 18.00 uur, de volwassenen (vanaf 14 jaar) strijden vanaf 19:00 uur om de nationale knikkertitel. Inschrijving ter plaatse.</p>
DESCRIPTION:<a href='/alblasserwaard/agenda/2025/8/1/nieuw-agendabericht-432380'>/alblasserwaard/agenda/2025/8/1/nieuw-agendabericht-432380</a> || <p>Nederlands kampioenschap kuiltjeknikkeren. Jeugdknikkeren (4 t/m 13 jaar) start om 18.00 uur, de volwassenen (vanaf 14 jaar) strijden vanaf 19:00 uur om de nationale knikkertitel. Inschrijving ter plaatse.</p>
LAST-MODIFIED:20260420T034423Z
LOCATION: Noorderhuis | Noorderplein 1 Noordeloos
SEQUENCE:0
STATUS:CONFIRMED
SUMMARY:Nieuw agendabericht
TRANSP:OPAQUE
END:VEVENT
END:VCALENDAR
