BEGIN:VCALENDAR
PRODID:-//PUBBLE//agenda//NL
VERSION:2.0
METHOD:PUBLISH
BEGIN:VEVENT
DTSTART:20250114T080000Z
DTEND:20250114T090000Z
DTSTAMP:20260422T075255Z
UID:731b6751-50c2-4c17-9e66-b2b597ba12dd
CREATED:20260422T075255Z
NAME:Taalcafé hetkontakt.nl
X-WR-CALNAME:Taalcafé
X-ALT-DESC;FMTTYPE=text/html:<a href='/krimpenerwaard/agenda/2025/1/14/taalcafe-429876'>/krimpenerwaard/agenda/2025/1/14/taalcafe-429876</a> || <p>In de bibliotheek is er een Taalcafé beschikbaar voor mensen die hun Nederlandse spreekvaardigheid willen oefenen. Na het drinken van een kopje koffie of thee, nemen de deelnemers deel aan taalspelletjes en bespreken ze verschillende onderwerpen. Het is niet nodig om van tevoren aan te melden.</p>
DESCRIPTION:<a href='/krimpenerwaard/agenda/2025/1/14/taalcafe-429876'>/krimpenerwaard/agenda/2025/1/14/taalcafe-429876</a> || <p>In de bibliotheek is er een Taalcafé beschikbaar voor mensen die hun Nederlandse spreekvaardigheid willen oefenen. Na het drinken van een kopje koffie of thee, nemen de deelnemers deel aan taalspelletjes en bespreken ze verschillende onderwerpen. Het is niet nodig om van tevoren aan te melden.</p>
LAST-MODIFIED:20260422T075255Z
LOCATION: Bibliotheek | Pleinstraat 4 Bergambacht
SEQUENCE:0
STATUS:CONFIRMED
SUMMARY:Taalcafé
TRANSP:OPAQUE
END:VEVENT
END:VCALENDAR
