BEGIN:VCALENDAR
PRODID:-//PUBBLE//agenda//NL
VERSION:2.0
METHOD:PUBLISH
BEGIN:VEVENT
DTSTART:20250109T123000Z
DTEND:20250109T133000Z
DTSTAMP:20260422T075406Z
UID:fddb0401-170b-438b-b17b-9f2bb30aa4e8
CREATED:20260422T075406Z
NAME:Taalcafé hetkontakt.nl
X-WR-CALNAME:Taalcafé
X-ALT-DESC;FMTTYPE=text/html:<a href='/krimpenerwaard/agenda/2025/1/9/taalcafe-429867'>/krimpenerwaard/agenda/2025/1/9/taalcafe-429867</a> || <p>In de bibliotheek is er een Taalcafé beschikbaar voor mensen die hun Nederlandse spreekvaardigheid willen oefenen. Na het drinken van een kopje koffie of thee, nemen de deelnemers deel aan taalspelletjes en bespreken ze verschillende onderwerpen. Het is niet nodig om van tevoren aan te melden.</p>
DESCRIPTION:<a href='/krimpenerwaard/agenda/2025/1/9/taalcafe-429867'>/krimpenerwaard/agenda/2025/1/9/taalcafe-429867</a> || <p>In de bibliotheek is er een Taalcafé beschikbaar voor mensen die hun Nederlandse spreekvaardigheid willen oefenen. Na het drinken van een kopje koffie of thee, nemen de deelnemers deel aan taalspelletjes en bespreken ze verschillende onderwerpen. Het is niet nodig om van tevoren aan te melden.</p>
LAST-MODIFIED:20260422T075406Z
LOCATION: Bibliotheek | Talmastraat 1 Lekkerkerk
SEQUENCE:0
STATUS:CONFIRMED
SUMMARY:Taalcafé
TRANSP:OPAQUE
END:VEVENT
END:VCALENDAR
