BEGIN:VCALENDAR
PRODID:-//PUBBLE//agenda//NL
VERSION:2.0
METHOD:PUBLISH
BEGIN:VEVENT
DTSTART:20250709T080000Z
DTEND:20250709T090000Z
DTSTAMP:20260420T061413Z
UID:86df9231-0f5c-4a00-a1ed-76340339f549
CREATED:20260420T061413Z
NAME:Dorpskamer Noordeloos hetkontakt.nl
X-WR-CALNAME:Dorpskamer Noordeloos
X-ALT-DESC;FMTTYPE=text/html:<a href='/alblasserwaard/agenda/2025/7/9/dorpskamer-noordeloos-429864'>/alblasserwaard/agenda/2025/7/9/dorpskamer-noordeloos-429864</a> || <p>Inloop tot 12.00 uur. Generale repetitie voor de schoolmusical van groep 8. De uitvoering begint om 10.15 uur. </p>
DESCRIPTION:<a href='/alblasserwaard/agenda/2025/7/9/dorpskamer-noordeloos-429864'>/alblasserwaard/agenda/2025/7/9/dorpskamer-noordeloos-429864</a> || <p>Inloop tot 12.00 uur. Generale repetitie voor de schoolmusical van groep 8. De uitvoering begint om 10.15 uur. </p>
LAST-MODIFIED:20260420T061413Z
LOCATION: Noorderhuis | Noorderplein 1 Noordeloos
SEQUENCE:0
STATUS:CONFIRMED
SUMMARY:Dorpskamer Noordeloos
TRANSP:OPAQUE
END:VEVENT
END:VCALENDAR
