BEGIN:VCALENDAR
PRODID:-//PUBBLE//agenda//NL
VERSION:2.0
METHOD:PUBLISH
BEGIN:VEVENT
DTSTART:20250628T060000Z
DTEND:20250628T120000Z
DTSTAMP:20260419T162403Z
UID:9027f25a-09a5-4ef3-b16f-a77e877e3ba0
CREATED:20260419T162403Z
NAME:Rommelmarkt Acquoy hetkontakt.nl
X-WR-CALNAME:Rommelmarkt Acquoy
X-ALT-DESC;FMTTYPE=text/html:<a href='/westbetuwe/agenda/2025/6/28/rommelmarkt-acquoy-428967'>/westbetuwe/agenda/2025/6/28/rommelmarkt-acquoy-428967</a> || <p pstyle="03 Kop - Klein">Op Zaterdag 28 juni wordt tussen 8:00 en 14:00 uur voor de 43e keer de jaarlijkse, grote rommelmarkt in Acquoy gehouden. De opbrengst is bestemd voor het onderhoud van de kerk van de Hervormde Gemeente Acquoy. Er zijn volop kramen aanwezig met antiek, mooie boeken, eten, drinken en nog veel meer! De rommelmarkt wordt gehouden op het plein bij dorpshuis ‘De Schakel’ en op de Lingedijk.</p>
DESCRIPTION:<a href='/westbetuwe/agenda/2025/6/28/rommelmarkt-acquoy-428967'>/westbetuwe/agenda/2025/6/28/rommelmarkt-acquoy-428967</a> || <p pstyle="03 Kop - Klein">Op Zaterdag 28 juni wordt tussen 8:00 en 14:00 uur voor de 43e keer de jaarlijkse, grote rommelmarkt in Acquoy gehouden. De opbrengst is bestemd voor het onderhoud van de kerk van de Hervormde Gemeente Acquoy. Er zijn volop kramen aanwezig met antiek, mooie boeken, eten, drinken en nog veel meer! De rommelmarkt wordt gehouden op het plein bij dorpshuis ‘De Schakel’ en op de Lingedijk.</p>
LAST-MODIFIED:20260419T162403Z
LOCATION: Dorpshuis De Schakel | Lingedijk 60-62 Acquoy
SEQUENCE:0
STATUS:CONFIRMED
SUMMARY:Rommelmarkt Acquoy
TRANSP:OPAQUE
END:VEVENT
END:VCALENDAR
