BEGIN:VCALENDAR
PRODID:-//PUBBLE//agenda//NL
VERSION:2.0
METHOD:PUBLISH
BEGIN:VEVENT
DTSTART:20250512T062658Z
DTEND:20250512T072658Z
DTSTAMP:20260422T145629Z
UID:c437fe53-41bb-4e26-be7c-6cdc1a6da07f
CREATED:20260422T145629Z
NAME:Grote boekenmarkt Bibliotheek AanZet Alblasserdam hetkontakt.nl
X-WR-CALNAME:Grote boekenmarkt Bibliotheek AanZet Alblasserdam
X-ALT-DESC;FMTTYPE=text/html:<a href='/klaroen/agenda/2025/5/30/grote-boekenmarkt-bibliotheek-aanzet-alblasserdam-425069'>/klaroen/agenda/2025/5/30/grote-boekenmarkt-bibliotheek-aanzet-alblasserdam-425069</a> || <p>Op vrijdag 30 mei van 10.00 tot 16.45 uur en zaterdag 31 mei van 10.00 tot 12.45 uur organiseert Bibliotheek AanZet Alblasserdam weer een gezellige boekenmarkt. Dit gaat gebeuren tijdens de reguliere openingstijden.</p><p>De collectie van de bibliotheek is onlangs grondig onder de loep genomen. Boeken die de afgelopen jaren minder uitgeleend werden, hebben plaatsgemaakt voor nieuwe titels. De afgeschreven boeken krijgen graag een tweede leven.</p><p>Tijdens de boekenmarkt zijn deze boeken, zowel voor jeugd als volwassenen, te koop voor een klein prijsje. Van spannende romans tot sfeervolle prentenboeken, van inspirerende kookboeken tot avontuurlijke reisboeken: het aanbod is breed en verrassend, met voor ieder wat wils.</p><p>Graag contant betalen. Bibliotheek aanZet Alblasserdam is gevestigd in de Rederij aan het Raadhuisplein.</p>
DESCRIPTION:<a href='/klaroen/agenda/2025/5/30/grote-boekenmarkt-bibliotheek-aanzet-alblasserdam-425069'>/klaroen/agenda/2025/5/30/grote-boekenmarkt-bibliotheek-aanzet-alblasserdam-425069</a> || <p>Op vrijdag 30 mei van 10.00 tot 16.45 uur en zaterdag 31 mei van 10.00 tot 12.45 uur organiseert Bibliotheek AanZet Alblasserdam weer een gezellige boekenmarkt. Dit gaat gebeuren tijdens de reguliere openingstijden.</p><p>De collectie van de bibliotheek is onlangs grondig onder de loep genomen. Boeken die de afgelopen jaren minder uitgeleend werden, hebben plaatsgemaakt voor nieuwe titels. De afgeschreven boeken krijgen graag een tweede leven.</p><p>Tijdens de boekenmarkt zijn deze boeken, zowel voor jeugd als volwassenen, te koop voor een klein prijsje. Van spannende romans tot sfeervolle prentenboeken, van inspirerende kookboeken tot avontuurlijke reisboeken: het aanbod is breed en verrassend, met voor ieder wat wils.</p><p>Graag contant betalen. Bibliotheek aanZet Alblasserdam is gevestigd in de Rederij aan het Raadhuisplein.</p>
LAST-MODIFIED:20260422T145629Z
LOCATION: Bibliotheek AanZet | Cortgene 2 Alblasserdam
SEQUENCE:0
STATUS:CONFIRMED
SUMMARY:Grote boekenmarkt Bibliotheek AanZet Alblasserdam
TRANSP:OPAQUE
END:VEVENT
END:VCALENDAR
