BEGIN:VCALENDAR
PRODID:-//PUBBLE//agenda//NL
VERSION:2.0
METHOD:PUBLISH
BEGIN:VEVENT
DTSTART:20250515T113000Z
DTEND:20250515T123000Z
DTSTAMP:20260420T141204Z
UID:7e205cf2-02bf-4130-b969-c7b812476701
CREATED:20260420T141204Z
NAME:Huiskamer Ottoland en Goudriaan hetkontakt.nl
X-WR-CALNAME:Huiskamer Ottoland en Goudriaan
X-ALT-DESC;FMTTYPE=text/html:<a href='/alblasserwaard/agenda/2025/5/15/huiskamer-ottoland-en-goudriaan-424535'>/alblasserwaard/agenda/2025/5/15/huiskamer-ottoland-en-goudriaan-424535</a> || <p>In de Huiskamer van Ottoland en Goudriaan is er tot 14.15 uur Bewegen voor 60+. Vanaf 14.30 uur inloop met een kopje koffie/thee, een spelletje of praatje met een vrijwilliger. Om 17.30 uur gezamenlijke maaltijd. Kosten 4 euro. Aanmelding uiterlijk één dag van te voren via 06-53137754.</p>
DESCRIPTION:<a href='/alblasserwaard/agenda/2025/5/15/huiskamer-ottoland-en-goudriaan-424535'>/alblasserwaard/agenda/2025/5/15/huiskamer-ottoland-en-goudriaan-424535</a> || <p>In de Huiskamer van Ottoland en Goudriaan is er tot 14.15 uur Bewegen voor 60+. Vanaf 14.30 uur inloop met een kopje koffie/thee, een spelletje of praatje met een vrijwilliger. Om 17.30 uur gezamenlijke maaltijd. Kosten 4 euro. Aanmelding uiterlijk één dag van te voren via 06-53137754.</p>
LAST-MODIFIED:20260420T141204Z
LOCATION: Huiskamer Ottoland en Goudriaan | A 94 Ottoland
SEQUENCE:0
STATUS:CONFIRMED
SUMMARY:Huiskamer Ottoland en Goudriaan
TRANSP:OPAQUE
END:VEVENT
END:VCALENDAR
