BEGIN:VCALENDAR
PRODID:-//PUBBLE//agenda//NL
VERSION:2.0
METHOD:PUBLISH
BEGIN:VEVENT
DTSTART:20241223T080000Z
DTEND:20241223T090000Z
DTSTAMP:20260422T090718Z
UID:17e5cb15-c59a-4e0d-a15d-427b0a92d7cd
CREATED:20260422T090718Z
NAME:Brei- en haakcafé hetkontakt.nl
X-WR-CALNAME:Brei- en haakcafé
X-ALT-DESC;FMTTYPE=text/html:<a href='/krimpenerwaard/agenda/2024/12/23/brei-en-haakcafe-410431'>/krimpenerwaard/agenda/2024/12/23/brei-en-haakcafe-410431</a> || <p>Iedereen die van breien of haken houdt, is welkom. De bedoeling is dat er onder het genot van een kopje koffie of thee, ideeën en patronen uitgewisseld worden. Deelnemers hoeven geen lid te zijn van de bibliotheek.</p>
DESCRIPTION:<a href='/krimpenerwaard/agenda/2024/12/23/brei-en-haakcafe-410431'>/krimpenerwaard/agenda/2024/12/23/brei-en-haakcafe-410431</a> || <p>Iedereen die van breien of haken houdt, is welkom. De bedoeling is dat er onder het genot van een kopje koffie of thee, ideeën en patronen uitgewisseld worden. Deelnemers hoeven geen lid te zijn van de bibliotheek.</p>
LAST-MODIFIED:20260422T090718Z
LOCATION: Bibliotheek | Bergambachterstraat 9 Schoonhoven
SEQUENCE:0
STATUS:CONFIRMED
SUMMARY:Brei- en haakcafé
TRANSP:OPAQUE
END:VEVENT
END:VCALENDAR
