BEGIN:VCALENDAR
PRODID:-//PUBBLE//agenda//NL
VERSION:2.0
METHOD:PUBLISH
BEGIN:VEVENT
DTSTART:20260202T173000Z
DTEND:20260202T183000Z
DTSTAMP:20260422T075255Z
UID:5a8ee409-36d3-47c3-bd80-af4a3237dfa6
CREATED:20260422T075255Z
NAME:Open schaakavond hetkontakt.nl
X-WR-CALNAME:Open schaakavond
X-ALT-DESC;FMTTYPE=text/html:<a href='/krimpenerwaard/agenda/2026/2/2/open-schaakavond-409198'>/krimpenerwaard/agenda/2026/2/2/open-schaakavond-409198</a> || <p>In wijkcentrum ‘t Huis van Noord is er wekelijks op woensdag een schaakavond waar liefhebbers van het klassieke bordspel het tegen elkaar kunnen opnemen. De schaakavonden staan open voor iedereen, ongeacht leeftijd en niveau. Voor meer informatie: schaken@hhvn.nl.&nbsp;</p>
DESCRIPTION:<a href='/krimpenerwaard/agenda/2026/2/2/open-schaakavond-409198'>/krimpenerwaard/agenda/2026/2/2/open-schaakavond-409198</a> || <p>In wijkcentrum ‘t Huis van Noord is er wekelijks op woensdag een schaakavond waar liefhebbers van het klassieke bordspel het tegen elkaar kunnen opnemen. De schaakavonden staan open voor iedereen, ongeacht leeftijd en niveau. Voor meer informatie: schaken@hhvn.nl.&nbsp;</p>
LAST-MODIFIED:20260422T075255Z
LOCATION: Wijkcentrum 't Huis van Noord | Voltastraat 2 Schoonhoven
SEQUENCE:0
STATUS:CONFIRMED
SUMMARY:Open schaakavond
TRANSP:OPAQUE
END:VEVENT
END:VCALENDAR
