BEGIN:VCALENDAR
PRODID:-//PUBBLE//agenda//NL
VERSION:2.0
METHOD:PUBLISH
BEGIN:VEVENT
DTSTART:20260206T083000Z
DTEND:20260206T093000Z
DTSTAMP:20260422T075406Z
UID:c74cfdb1-eb73-4a5c-9aec-e0910501483a
CREATED:20260422T075406Z
NAME:Nederlands leren door samen te zingen hetkontakt.nl
X-WR-CALNAME:Nederlands leren door samen te zingen
X-ALT-DESC;FMTTYPE=text/html:<a href='/krimpenerwaard/agenda/2026/2/6/nederlands-leren-door-samen-te-zingen-394995'>/krimpenerwaard/agenda/2026/2/6/nederlands-leren-door-samen-te-zingen-394995</a> || <p>Het leren van een taal gaat vaak gemakkelijker door te zingen en kan bovendien erg leuk zijn. Daarom is er ‘Zing Nederlands met me’. Tijdens deze gratis activiteit worden de bekendste Nederlandse liedjes gezongen, waarbij zangvaardigheid niet van belang is; het draait om het plezier. Na het zingen helpt een docent Nederlands bij het oefenen van de taal. Deelname is gratis, ook voor niet-leden van de bibliotheek. Aanmelden kan op <a href="https://www.bibliotheekaandenijssel.nl/" target="_blank">www.bibliotheekaandenijssel.nl</a>.</p>
DESCRIPTION:<a href='/krimpenerwaard/agenda/2026/2/6/nederlands-leren-door-samen-te-zingen-394995'>/krimpenerwaard/agenda/2026/2/6/nederlands-leren-door-samen-te-zingen-394995</a> || <p>Het leren van een taal gaat vaak gemakkelijker door te zingen en kan bovendien erg leuk zijn. Daarom is er ‘Zing Nederlands met me’. Tijdens deze gratis activiteit worden de bekendste Nederlandse liedjes gezongen, waarbij zangvaardigheid niet van belang is; het draait om het plezier. Na het zingen helpt een docent Nederlands bij het oefenen van de taal. Deelname is gratis, ook voor niet-leden van de bibliotheek. Aanmelden kan op <a href="https://www.bibliotheekaandenijssel.nl/" target="_blank">www.bibliotheekaandenijssel.nl</a>.</p>
LAST-MODIFIED:20260422T075406Z
LOCATION: Bibliotheek | Nachtegaalstraat 8 Krimpen a/d IJssel
SEQUENCE:0
STATUS:CONFIRMED
SUMMARY:Nederlands leren door samen te zingen
TRANSP:OPAQUE
END:VEVENT
END:VCALENDAR
