BEGIN:VCALENDAR
PRODID:-//PUBBLE//agenda//NL
VERSION:2.0
METHOD:PUBLISH
BEGIN:VEVENT
DTSTART:20260206T080000Z
DTEND:20260206T090000Z
DTSTAMP:20260422T075405Z
UID:2b4f458e-0b75-49dd-bae2-57bb51275d79
CREATED:20260422T075405Z
NAME:Spreekuur wijkagenten hetkontakt.nl
X-WR-CALNAME:Spreekuur wijkagenten
X-ALT-DESC;FMTTYPE=text/html:<a href='/krimpenerwaard/agenda/2026/2/6/spreekuur-wijkagenten-366498'>/krimpenerwaard/agenda/2026/2/6/spreekuur-wijkagenten-366498</a> || <p>Wijkagenten Yasmijn Kloosterman en Jan-Cees van de Lustgraaf zijn weer aanwezig in de bibliotheek van Schoonhoven. Ze gaan graag in gesprek met inwoners over de veiligheid en leefbaarheid in hun straat of wijk. Aanmelden is niet nodig.</p>
DESCRIPTION:<a href='/krimpenerwaard/agenda/2026/2/6/spreekuur-wijkagenten-366498'>/krimpenerwaard/agenda/2026/2/6/spreekuur-wijkagenten-366498</a> || <p>Wijkagenten Yasmijn Kloosterman en Jan-Cees van de Lustgraaf zijn weer aanwezig in de bibliotheek van Schoonhoven. Ze gaan graag in gesprek met inwoners over de veiligheid en leefbaarheid in hun straat of wijk. Aanmelden is niet nodig.</p>
LAST-MODIFIED:20260422T075405Z
LOCATION: Bibliotheek | Bergambachterstraat 9 Schoonhoven
SEQUENCE:0
STATUS:CONFIRMED
SUMMARY:Spreekuur wijkagenten
TRANSP:OPAQUE
END:VEVENT
END:VCALENDAR
